BEGIN:VCALENDAR
PRODID:-//Microsoft Corporation//Outlook 11.0 MIMEDIR//EN
VERSION:2.0
METHOD:PUBLISH
BEGIN:VEVENT
DTSTART:20260423T120000
LOCATION:Baumfigurenkabinett Räbengasse 6, 6422 Steinen
TRANSP:OPAQUE
RRULE:FREQ=DAILY;INTERVAL=1
UID:02281257-027b-4a65-9b7b-44bcf03a86d4-0
DTSTAMP:20260423T120000
DESCRIPTION:Kein Wachsfiguren-Kabinett – Kein Grusel-Kabinett – Nein, ein Baumfiguren-Kabinett eröffneten wir am 21. Juni 2008 in Steinen. Gewachsene Bäume, vom Künstler Alfons Bürgler buchstäblich auf den Kopf gestellt, können Sie in diesem Kabinett als Kobolde, Frauen, Männer, Liebespaare und Tänzer sehen.\n\nDas Museum ist ab 2026 nur bei Anlässen der Kabinett Eventbar zugänglich.\nIndividuelle Öffnungszeiten und Privatanlässe auf Anfrage. Gruppen bitten wir, sich im Voraus per Mail oder Telefon anzumelden.\n\nhttps://www.kabinett.alfonsbuergler.ch\n\nKontakt\nBaumfiguren-Kabinett\nRäbengasse 6\n6422 Steinen\n079 844 63 77\n\nAb 2026 haben wir keine festen Arbeitszeiten mehr.\nStattdessen öffnen wir für geplante Veranstaltungen – und wann immer ihr uns braucht!\n\nPreis\nErwachsene: CHF 6.- Kinder bis 12 Jahre (nur in Begleitung Erwachsener): Eintritt frei Jugendliche: (12-18 Jahre): CHF 4.- Lehrlinge, Studierende: CHF 4.- Gruppen ab 10 Personen: CHF 4.- pro Person Schulklassen: CHF 40.. mit Lehr- und Begleitperson\n\n\nDas Angebot im Detail: https://www.guidle.com/angebote/1083552541/baumfiguren-kabinett/steinen\nQuelle: https://www.schwyzkultur.ch
SUMMARY:Baumfiguren-Kabinett
PRIORITY:5
X-MICROSOFT-CDO-IMPORTANCE:1
CLASS:PUBLIC
BEGIN:VALARM
TRIGGER:-P1D
ACTION:DISPLAY
DESCRIPTION:Reminder
END:VALARM
END:VEVENT
END:VCALENDAR