BEGIN:VCALENDAR
PRODID:-//Microsoft Corporation//Outlook 11.0 MIMEDIR//EN
VERSION:2.0
METHOD:PUBLISH
BEGIN:VEVENT
DTSTART:20260930T090000
LOCATION:Schulhaus Tischmacherhof Schulstrasse 1, 8854 Galgenen
TRANSP:OPAQUE
SEQUENCE:0
UID:c0ed6df9-86c1-4983-83bc-40660be150e0-0
DTSTAMP:20260930T090000
DESCRIPTION:Die Viehschauen sind für Einheimische sowie für Besucher ein spezielles Ereignis. Nebst der landwirtschaftlichen Bedeutung haben die Ausstellungen heute einen hohen kulturellen und traditionellen Wert\n\nProgramm:\n09.00 - 11.00 h: Prämierung\n11.30 - 13.00 h: Vergabe der Spezialpreise\n13.30 - 14.00 h: Festumzug durch Galgenen\n\nhttps://www.bezirk-march.ch/anlaesseaktuelles\n\nVerfügbarkeit / Datum, Zeit\n30.9.2026 09:00 - \n\n\nDas Angebot im Detail: https://www.guidle.com/angebote/1106151696/bezirksviehausstellung_march/galgenen\nQuelle: https://www.schwyzkultur.ch
SUMMARY:Bezirksviehausstellung March
PRIORITY:5
X-MICROSOFT-CDO-IMPORTANCE:1
CLASS:PUBLIC
BEGIN:VALARM
TRIGGER:-P1D
ACTION:DISPLAY
DESCRIPTION:Reminder
END:VALARM
END:VEVENT
END:VCALENDAR