BEGIN:VCALENDAR
PRODID:-//Microsoft Corporation//Outlook 11.0 MIMEDIR//EN
VERSION:2.0
METHOD:PUBLISH
BEGIN:VEVENT
DTSTART:20260522
LOCATION:Pavillon am See Seestrasse, 6353 Weggis
TRANSP:OPAQUE
RRULE:FREQ=WEEKLY;INTERVAL=1;UNTIL=20260524;WKST=MO;BYDAY=MO,TU,WE,TH,FR,SA,SU
UID:963237db-232b-4c48-8ff6-bf9bd432ea75-0
DTSTAMP:20260522T120000
DESCRIPTION:Das Salsa-Openairfestival mit einer jedes Jahr wieder neu begeisternden Stimmung mit Live - Konzerten, DJ’s, Shows, Kinderprogramm, Animationen und einem unvergesslichen Latino Village.\n\nDas detaillierte Programm wird zu gegebener Zeit publiziert.\n\n\n\nhttps://www.riviera-latina.ch/\n\nKontakt\nVerein Riviera Latina\nMarkus Peter\nNeustadtstrasse 42\n6003  Luzern\n\nVerfügbarkeit / Datum, Zeit\n22.5.2026 - 24.5.2026 \n\nPreis\nEintritt frei\n\n\nDas Angebot im Detail: https://www.guidle.com/angebote/1166968265/riviera_latina_festival_weggis/weggis\nQuelle: https://www.schwyzkultur.ch
SUMMARY:Riviera Latina Festival Weggis
PRIORITY:5
X-MICROSOFT-CDO-IMPORTANCE:1
CLASS:PUBLIC
BEGIN:VALARM
TRIGGER:-P1D
ACTION:DISPLAY
DESCRIPTION:Reminder
END:VALARM
END:VEVENT
BEGIN:VEVENT
DTSTART:20260522
LOCATION:Pavillon am See Seestrasse, 6353 Weggis
TRANSP:OPAQUE
RRULE:FREQ=WEEKLY;INTERVAL=1;UNTIL=20260524;WKST=MO;BYDAY=MO,TU,WE,TH,FR,SA,SU
UID:963237db-232b-4c48-8ff6-bf9bd432ea75-1
DTSTAMP:20260522T120000
DESCRIPTION:Das Salsa-Openairfestival mit einer jedes Jahr wieder neu begeisternden Stimmung mit Live - Konzerten, DJ’s, Shows, Kinderprogramm, Animationen und einem unvergesslichen Latino Village.\n\nDas detaillierte Programm wird zu gegebener Zeit publiziert.\n\n\n\nhttps://www.riviera-latina.ch/\n\nKontakt\nVerein Riviera Latina\nMarkus Peter\nNeustadtstrasse 42\n6003  Luzern\n\nVerfügbarkeit / Datum, Zeit\n22.5.2026 - 24.5.2026 \n\nPreis\nEintritt frei\n\n\nDas Angebot im Detail: https://www.guidle.com/angebote/1166968265/riviera_latina_festival_weggis/weggis\nQuelle: https://www.schwyzkultur.ch
SUMMARY:Riviera Latina Festival Weggis
PRIORITY:5
X-MICROSOFT-CDO-IMPORTANCE:1
CLASS:PUBLIC
BEGIN:VALARM
TRIGGER:-P1D
ACTION:DISPLAY
DESCRIPTION:Reminder
END:VALARM
END:VEVENT
END:VCALENDAR