BEGIN:VCALENDAR
PRODID:-//Microsoft Corporation//Outlook 11.0 MIMEDIR//EN
VERSION:2.0
METHOD:PUBLISH
BEGIN:VEVENT
DTSTART:20260801T170000
LOCATION:Mosi Bar Ringstrasse 33, 6433 Stoos SZ
TRANSP:OPAQUE
SEQUENCE:0
UID:bb25b59b-c0cb-4bba-9f26-23bafe09598b-0
DTSTAMP:20260801T170000
DESCRIPTION:1. August Party in der Mosi-Bar – Feierlaune garantiert!🎉\n  \nAm Nationalfeiertag wird auf dem Stoos gefeiert – und zwar richtig! \n\nAb 17:00 Uhr startet die 1. August Party in der Mosi-Bar mit bester Stimmung und DJ Mosi an den Reglern. \n  \nGeniesst die Bier-Happy Hour von 17:00 bis 19:00 Uhr und stosst mit uns auf die Schweiz an. \nFür den perfekten Abschluss bringt euch die Stoosbahn mit einer Extrafahrt um 01:30 Uhr sicher ins Tal zurück. \n  \nKommt vorbei – wir freuen uns auf euch! \nMosi-Bar Stoos \n\n\nhttps://www.balmberg-stoos.ch/index.html\n\nKontakt\nMosi-Bar\nDavid Lüönd\nRingstrasse 33\n6433 Stoos\n041 811 42 41\n\nVerfügbarkeit / Datum, Zeit\n1.8.2026 17:00 - \n\n\nDas Angebot im Detail: https://www.guidle.com/angebote/1173167260/erschta_augschta_party__mosi-bar/stoos_sz\nQuelle: https://www.schwyzkultur.ch
SUMMARY:ERSCHTÄ AUGSCHTÄ PARTY @ MOSI-BAR
PRIORITY:5
X-MICROSOFT-CDO-IMPORTANCE:1
CLASS:PUBLIC
BEGIN:VALARM
TRIGGER:-P1D
ACTION:DISPLAY
DESCRIPTION:Reminder
END:VALARM
END:VEVENT
END:VCALENDAR