BEGIN:VCALENDAR
PRODID:-//Microsoft Corporation//Outlook 11.0 MIMEDIR//EN
VERSION:2.0
METHOD:PUBLISH
BEGIN:VEVENT
DTSTART:20260425T150000
DTEND:20260425T170000
LOCATION:Theatersaal Kloster Einsiedeln, 8840 Einsiedeln
TRANSP:OPAQUE
SEQUENCE:0
UID:9724d0c2-1b68-4960-9b27-00d3f6f486e8-0
DTSTAMP:20260425T150000
DESCRIPTION:Das 1994 gegründete, rund 70-köpfige Symphonic Rock Orchestra Wood and Metal Connec-tion (WMC) aus Einsiedeln - unter der musikalischen Leitung von Susanne Theiler und präsidiert von Regula Kümin - und die Einsiedler Tanz- und Akrobatikschule Matviienko Dance Art präsentieren eine gemeinsame Show, in der sinfonische Filmmusik, Rock-Energie, Tanz und Akrobatik zu einem einzigartigen Erlebnis verschmelzen. Die erfolgreiche Zusammenarbeit der beiden Akteure begann 2018 und findet nun ihre Fortsetzung in einer Produktion voller epischer Klänge, mitreissender Choreografien und beeindruckender Akrobatik.\n\nDas Programm führt vom abenteuerlichen Auftakt mit «Jurassic Park» in die schwebenden Klangwelten von «Elysium». Ein galaktischer Block mit Highlights aus «Star Wars» bringt Schwung, Spannung und Lebensfreude auf die Bühne. Mit «The Phantom of the Opera» entsteht ein intensives Spiel aus Emotion, Leidenschaft und Bewegung, das im kraftvollen Finale «Music from The Lord of the Dance» seinen Höhepunkt findet.\n\nBei den Nachmittagsaufführungen wird das neue Einsiedler Jugendorchester (EJSO), unter der musikalischen Leitung von Elisabeth Köstler und Susanne Theiler, u.a. mit La Folie von Vivaldi und einem ABBA-Medley, ebenfalls einen Teil des Programms gestalten. Wir freuen uns darauf.\n\nMatviienko Dance Art bietet seit 2013 ein kreatives Zuhause für tanz- und zirkusbegeisterte Kinder, Jugendliche und Erwachsene. Rund 130 Schülerinnen und Schüler entdecken hier täglich die Welt des Tanzes und der Akrobatik und entwickeln mit grosser Leidenschaft neue Choreografien und Shows in vielfältigen Stilrichtungen.\n\nDie WMC bietet mit diesem sowie weiteren gemeinsamen Projekten mit Jugend- und Kinderorchestern sowie Tanzschulen jungen Talenten erneut eine wertvolle Plattform zur Weiterentwicklung.\n\nhttps://www.wmc-einsiedeln.ch/\n\nKontakt\nWood & Metal Connection\n8840 Einsiedeln\n\nVerfügbarkeit / Datum, Zeit\n25.4.2026 15:00 - 17:00\n25.4.2026 19:00 - 21:00\n26.4.2026 13:30 - 15:30\n26.4.2026 17:00 - 19:00\n\nPreis\nCHF 25.00 (Erwachsene)\nCHF 10.00 (Personen unter 16 Jahren, Lehrlinge, Studenten)\n\nVorverkauf\nhttps://eventfrog.ch/wmc-einsiedeln\n\n\nDas Angebot im Detail: https://www.guidle.com/angebote/1189839342/wmc-konzert_world_of_dance/einsiedeln\nQuelle: https://www.schwyzkultur.ch
SUMMARY:WMC-Konzert: World of Dance
PRIORITY:5
X-MICROSOFT-CDO-IMPORTANCE:1
CLASS:PUBLIC
BEGIN:VALARM
TRIGGER:-P1D
ACTION:DISPLAY
DESCRIPTION:Reminder
END:VALARM
END:VEVENT
END:VCALENDAR