BEGIN:VCALENDAR
PRODID:-//Microsoft Corporation//Outlook 11.0 MIMEDIR//EN
VERSION:2.0
METHOD:PUBLISH
BEGIN:VEVENT
DTSTART:20261121T200000
DTEND:20261121T213000
LOCATION:Theater Duo Fischbach Kelmattstrasse 22, 6403 Küssnacht am Rigi
TRANSP:OPAQUE
SEQUENCE:0
UID:948a0abe-ce43-4bce-a316-43c666502db4-0
DTSTAMP:20261121T200000
DESCRIPTION:Famiglia Dimitri mit "Cabaret Sorelle Forelle"\n\nMit : Masha Dimitri / Silvana Gargiulo / Nina Dimitri\n\nRegie: Ueli Bichsel\n\nDrei Frauen – drei Clowns – ein Abend voller Widersprüche und Überraschungen.\n\nSchön, stark, mutig… und manchmal gefährlich!\n\nMit viel Humor, Musik und einer guten Portion Verrücktheit zeigen die drei aussergewöhnlichen\n\nKünstlerinnen ein Cabaret der besonderen Art. Poetisch und gleichzeitig komisch, feinfühlig und\n\nfrech und dabei immer wieder überraschend, leichtfüssig und grotesk.\n\nSie spielen, singen, tanzen und stolpern durch das Leben – jede auf ihre Weise, und doch passen\n\nsie wunderbar zusammen.\n\nEin Abend für alle, die lachen, staunen und die Kraft der Frauen feiern wollen\n\nhttp://www.duofischbach.ch\n\nKontakt\nTICKETINO AG\n0900 441 441\n\nVerfügbarkeit / Datum, Zeit\n21.11.2026 20:00 - 21:30\n\nVorverkauf\nhttps://www.ticketino.com/de/Event/208469\n\n\nDas Angebot im Detail: https://www.guidle.com/angebote/1206343117/famiglia_dimitri_mit_cabaret_sorelle_forelle/kussnacht_am_rigi\nQuelle: https://www.schwyzkultur.ch
SUMMARY:Famiglia Dimitri mit "Cabaret Sorelle Forelle"
PRIORITY:5
X-MICROSOFT-CDO-IMPORTANCE:1
CLASS:PUBLIC
BEGIN:VALARM
TRIGGER:-P1D
ACTION:DISPLAY
DESCRIPTION:Reminder
END:VALARM
END:VEVENT
END:VCALENDAR