BEGIN:VCALENDAR
PRODID:-//Microsoft Corporation//Outlook 11.0 MIMEDIR//EN
VERSION:2.0
METHOD:PUBLISH
BEGIN:VEVENT
DTSTART:20260419T160000
DTEND:20260419T180000
LOCATION:the dance studio, dance&show company Schützenstr.31 , 6430 Schwyz
TRANSP:OPAQUE
SEQUENCE:0
UID:8fcbeba3-ead4-49fc-aaba-d96d5d693b51-0
DTSTAMP:20260419T160000
DESCRIPTION:dance & show company presents:\n\nDance-Workshop "New Style" ! \nEine Dance-Fusion aus Hip Hop, Jazz und Salsa! Drei Stile. Ein Gefühl.\n\nEin neuer Style, der dich fordert, berührt, wachsen lässt und vor allem, der ganz viel Spass macht und wir filmen den Moment als Erinnerung.\n\ndance & show company: the place to dance in Schwyz!\nMit diesem Workshop zeigen wir einmal mehr, was Tanzen wirklich bedeutet: zusammenkommen, verbinden, fühlen!\nAll levels are welcome!\n\n\nhttps://dance-company.ch\n\nKontakt\ndance & show company\nSonja Bolfing\nBahnhofstr. 116 b\n6423 Seewen\n079 655 45 78\n\nVerfügbarkeit / Datum, Zeit\n19.4.2026 16:00 - 18:00\n\nDance-Workshop 16:00-17:30 Uhr /  Filmen: 17:30-18:00 Uhr\n\nPreis\nCHF 40.00\n\n\nDas Angebot im Detail: https://www.guidle.com/angebote/1231024433/tanz-workshop_new_style/schwyz\nQuelle: https://www.schwyzkultur.ch
SUMMARY:Tanz-Workshop «New Style»
PRIORITY:5
X-MICROSOFT-CDO-IMPORTANCE:1
CLASS:PUBLIC
BEGIN:VALARM
TRIGGER:-P1D
ACTION:DISPLAY
DESCRIPTION:Reminder
END:VALARM
END:VEVENT
END:VCALENDAR