BEGIN:VCALENDAR
PRODID:-//Microsoft Corporation//Outlook 11.0 MIMEDIR//EN
VERSION:2.0
METHOD:PUBLISH
BEGIN:VEVENT
DTSTART:20260501T200000
DTEND:20260502T000000
LOCATION:Aubrighalle Postgasse 3, 8857 Vorderthal
TRANSP:OPAQUE
SEQUENCE:0
UID:20c19a2f-e995-480e-a970-c9420e1f85e5-0
DTSTAMP:20260501T200000
DESCRIPTION:Komödie in zwei Akten von Winnie Abel\nDialektbearbeitung: Nicolas Russi\n\nWas tun, wenn der Intercity plötzlich einen ausserplanmässigen Halt einlegt und Sie am trostlosesten Bahnhof weit und breit stranden? Nichts wie abwarten, oder?\nDoch plötzlich finden Sie sich umgeben von einem bunten Haufen skurriler Mitreisender! Ein Oldie-Chörli, das mit seinen Melodien für Stimmung sorgt, eine gehetzte Businessfrau, die kaum Luft zum Atmen findet,\nein Verschwörungstheoretiker, der uns alle auf der Spur des grossen Plans sieht, eine überdrehte Motivationstrainerin, die für die «positive Energie» sorgt und ein Ehepaar, bei dem der Zug vielleicht schon längst abgefahren ist – das sind nur einige der schrillen Charaktere, mit denen Sie das Chaos erleben werden. Doch das ist noch nicht alles: Unter den Fahrgästen könnte sich ein Psychopath befinden!\n\nhttps://www.waegitalertheater.ch\n\nKontakt\nWägitaler Theatergruppe\nToni Krieg\nPräsident\nFeusiguot 11\n8857 Vorderthal\n055 446 13 56\n\nVerfügbarkeit / Datum, Zeit\n1.5.2026 20:00 - 24:00\n2.5.2026 14:00 - 17:00\n2.5.2026 20:00 - 24:00\n8.5.2026 20:00 - 24:00\n9.5.2026 20:00 - 24:00\n10.5.2026 15:00 - 18:00\n13.5.2026 20:00 - 24:00\n15.5.2026 20:00 - 24:00\n16.5.2026 20:00 - 24:00\n\nTüröffnung:\nSamstag Nachmittag: 13:00\nSonntag: 14:00\nAbendvorstellungen: 18:30\n\nPreis\nErwachsene CHF 18.00\nKinder (bis 16 Jahre) CHF 12.00\n\nVorverkauf\nReservationen ab 13.04.2026 (Start 18:00) > Empfehlung Online-Reservation vornehmen\nTelefonisch jeweils nur montags von 18.00 - 19.00 Uhr unter 079 155 68 01\nhttps://www.waegitalertheater.ch\n\n\nDas Angebot im Detail: https://www.guidle.com/angebote/1231611559/es_fahrt_kein_zug_nach_irgendwo/vorderthal\nQuelle: https://www.schwyzkultur.ch
SUMMARY:Es fährt kein Zug nach Irgendwo
PRIORITY:5
X-MICROSOFT-CDO-IMPORTANCE:1
CLASS:PUBLIC
BEGIN:VALARM
TRIGGER:-P1D
ACTION:DISPLAY
DESCRIPTION:Reminder
END:VALARM
END:VEVENT
END:VCALENDAR