BEGIN:VCALENDAR
PRODID:-//Microsoft Corporation//Outlook 11.0 MIMEDIR//EN
VERSION:2.0
METHOD:PUBLISH
BEGIN:VEVENT
DTSTART:20260509T101500
DTEND:20260509T113000
LOCATION:Villa Senar Zinnenstrasse 6, 6353 Weggis
TRANSP:OPAQUE
SEQUENCE:0
UID:75b5fb70-b0c4-48fe-98c6-9781eca08c18-0
DTSTAMP:20260509T101500
DESCRIPTION:Führung in der Rachmaninoffs Villa Senar, Zinnenstrasse 6, 6353 Weggis für <strong>Samstag, 9. Mai 2026 um 10.15 Uhr</strong>.\n\nBitte planen Sie genügend Reisezeit ein und erscheinen Sie rechtzeitig. Türöffnung ist jeweils 20 Minuten vor Beginn der Veranstaltung.\n\nDie Anreise mit den öffentlichen Verkehrsmitteln wird empfohlen. Folgen Sie der Beschilderung "Rachmaninoff Villa Senar". Es stehen bei der Villa Senar wenige Parkplätze auf dem Areal zur Verfügung. Weitere Anreiseinformationen: www.rachmaninoff.ch/besuch\n\nFlache, bequeme Schuhe empfohlen. Keine Stilettos.\n\nWir freuen uns sehr, Sie schon bald in Rachmaninoffs Villa Senar begrüssen zu dürfen. Es ist ein Traumhaus und es scheint, als wäre Sergei nur kurz auf Konzerttournee und demnächst wieder an seinem Flügel.\n\nMaximal 5 Karten pro Gast buchbar.\n\nMitwirkende Künster: Sergei Rachmaninoff\n\nhttp://www.rachmaninoff.ch\n\nKontakt\nTICKETINO AG\n0900 441 441\n\nVerfügbarkeit / Datum, Zeit\n9.5.2026 10:15 - 11:30\n\nVorverkauf\nhttps://www.ticketino.com/de/Event/212677\n\n\nDas Angebot im Detail: https://www.guidle.com/angebote/1231983227/fuhrung_rachmaninoffs_villa_senar_samstag_9526_1015/weggis\nQuelle: https://www.schwyzkultur.ch
SUMMARY:Führung Rachmaninoffs Villa Senar, Samstag 9.5.26, 10.15
PRIORITY:5
X-MICROSOFT-CDO-IMPORTANCE:1
CLASS:PUBLIC
BEGIN:VALARM
TRIGGER:-P1D
ACTION:DISPLAY
DESCRIPTION:Reminder
END:VALARM
END:VEVENT
END:VCALENDAR