BEGIN:VCALENDAR
PRODID:-//Microsoft Corporation//Outlook 11.0 MIMEDIR//EN
VERSION:2.0
METHOD:PUBLISH
BEGIN:VEVENT
DTSTART:20260516T170000
DTEND:20260517T020000
LOCATION:Mehrzweckhalle Eggeli Eggeli  6, 6417 Sattel
TRANSP:OPAQUE
SEQUENCE:0
UID:4edff0da-4fda-4f59-a8f1-a15f5e943a07-0
DTSTAMP:20260516T170000
DESCRIPTION:Am 16. Mai 2026 findet das Jubiläumskonzert unter dem Motto Galaabend statt. Geniessen sie vorgängig ein feines Galamenu und tauchen sie anschliessend zu den klängen des Musikverein Sattels in die 125-jährige Geschichte ein. Der Abend wird mit Unterhaltungsmusik in der MZH und Barbetrieb ausgeklingen.\n\nEs würde uns sehr freuen wenn sie bereits beim öffentlichen Apero mit uns anstossen.\n\n\nProgramm 16.05.2026:\n\nab 17:00 Uhr: Apero für die ganze Bevölkerung mit Unterhaltung des Flex-Orchesters Sattel-Rothenthurm. Es würde uns freuen wenn sie mit dem Musikverein Sattel auf 125 Jahre anstossen. (Freier Eintritt)\n\n17:45 Uhr: Start Galamenu mit Unterhaltung der Örgelibandi. Für das Galamenu ist eine Reservation erforderlich (Preis CHF 62.50 inkl. Galakonzert, 125 Jahre mit 50% Rabatt) Tickets sind erhältlich unter eventfrog.ch. \n\n20:00 Uhr: Start Galakonzert des Musikvereins Sattel. (Abendkasse CHF 10.00) \n\nab 23:00 Uhr: Unterhaltungsmusik in der MZH und Barbetrieb\n\n\n\nhttp://www.musikverein-sattel.ch/Startseite/\n\nKontakt\nMusikverein Sattel\nNoldi Betschart\nPräsident\nSteinerbergstrasse 23\n6417 Sattel\n\nVerfügbarkeit / Datum, Zeit\n16.5.2026 17:00 - 02:00\n\nPreis\nGalamenu inkl. Konzert CHF 62.50\nAbendkasse (nur Konzert) CHF 10.-\n\nVorverkauf\nhttps://eventfrog.ch/de/p/konzert/blasmusik/125-jahre-musikverein-sattel-galaabend-7399332625813345121.html\n\n\nDas Angebot im Detail: https://www.guidle.com/angebote/1234614167/125_jahre_musikverein_sattel/sattel\nQuelle: https://www.schwyzkultur.ch
SUMMARY:125 Jahre Musikverein Sattel
PRIORITY:5
X-MICROSOFT-CDO-IMPORTANCE:1
CLASS:PUBLIC
BEGIN:VALARM
TRIGGER:-P1D
ACTION:DISPLAY
DESCRIPTION:Reminder
END:VALARM
END:VEVENT
END:VCALENDAR