BEGIN:VCALENDAR
PRODID:-//Microsoft Corporation//Outlook 11.0 MIMEDIR//EN
VERSION:2.0
METHOD:PUBLISH
BEGIN:VEVENT
DTSTART:20260423
LOCATION:Schweiz (ohne Ortsangabe)
TRANSP:OPAQUE
SEQUENCE:0
UID:0c1a1a99-5bec-40ad-98f4-3a3cdc41ae94-0
DTSTAMP:20260423T120000
DESCRIPTION:Seit Jahrhunderten locken Quarzkristalle Menschen in unwegsame Gebiete hoch in den Urner Alpen. Inneres Feuer, Legenden, Mythen und Träume begleiten sie beim «Strahlnen», der Suche nach den wundervollen Gebilden. Früher wie heute verbringen sie Tage, ja Wochen in der archaischen Berglandschaft, die sich in den letzten Jahren markant verändert hat. Doch trotz neuer Gefahren bleibt ihr Drang ungebrochen, die in Felsen verborgenen Schätze aufzuspüren und zu bergen. Derweilen interessieren sich Sammler:innen, Händler:innen, Museen für ihre Funde und Forschende ergründen die Entstehung der Kristalle und ihre Bedeutung für die Menschheit. Der neue Film von Irene Marty spürt der Leidenschaft der Kristallsuchenden nach. Er blickt zurück in eine Zeit, in der Familien in den Bergen damit einen wichtigen Teil ihres Lebensunterhalts bestritten, begleitet Strahlner:innen auf ihren abenteuerlichen Touren und erzählt von der vielschichtigen Bedeutung des Rohstoffs Quarz. «Im Bann der Quarzkristalle» ist eine Entdeckungsreise, eine Schatzsuche in imposanter Naturlandschaft – abenteuerlich, fesselnd, bereichernd.\n\nCAST & CREW\nDirector: Irene Marty\nProducer: Irene Marty\nScript: Irene Marty\nCamera: Jonas Jäggy, Stéphane Kuthy, Luzius Wespe\n\nPRODUKTION & RELEASE\nRELEASE CH-D: 23.04.2026\nDuration: 95\nProduktion: Switzerland, 2026\nDistribution: Filmcoopi\n\nTITEL\nIm Bann der Quarzkristalle\n\nVerfügbarkeit / Datum, Zeit\n23.4.2026 \n\n\nDas Angebot im Detail: https://www.guidle.com/angebote/1238234845/im_bann_der_quarzkristalle/schweiz_ohne_ortsangabe\nQuelle: https://www.schwyzkultur.ch
SUMMARY:Im Bann der Quarzkristalle
PRIORITY:5
X-MICROSOFT-CDO-IMPORTANCE:1
CLASS:PUBLIC
BEGIN:VALARM
TRIGGER:-P1D
ACTION:DISPLAY
DESCRIPTION:Reminder
END:VALARM
END:VEVENT
END:VCALENDAR