BEGIN:VCALENDAR
PRODID:-//Microsoft Corporation//Outlook 11.0 MIMEDIR//EN
VERSION:2.0
METHOD:PUBLISH
BEGIN:VEVENT
DTSTART:20260424T200000
DTEND:20260425T000000
LOCATION:Reithalle Wikart Gaswerkstrasse, 8840 Einsiedeln
TRANSP:OPAQUE
SEQUENCE:0
UID:4ada8bf3-4b38-4278-9c03-757985481e07-0
DTSTAMP:20260424T200000
DESCRIPTION:Traditionell gehört der Freitag am Let’s Fetz Wochenende dem Humor: Mit Let’s Comedy startet das Event jeweils mit einem Abend voller Lacher in der Reithalle Einsiedeln.\n\nDieses Jahr wartet dabei eine besondere Ausgabe: Gleich zwei Comedians stehen auf der Bühne. Mit Kiko als Headliner und Jan Kälin als Opening Act erwartet dich ein abwechslungsreicher Mix aus pointierten Beobachtungen, spontanen Momenten und treffsicherem Stand-up.\n\nOb als Einstieg ins Wochenende oder einfach für einen unterhaltsamen Abend – Let’s Comedy bietet beste Unterhaltung in entspannter Atmosphäre und sorgt dafür, dass der Start ins Let’s Fetz Wochenende garantiert nicht leise ausfällt.\n\nhttps://www.letsfetz-einsiedeln.ch/\n\nVerfügbarkeit / Datum, Zeit\n24.4.2026 20:00 - 24:00\n\nTüröffnung: 19.00 Uhr\nBeginn der Vorstellung: 20.30 Uhr\nEnde der Vorstellung: 22.45 Uhr\nBarbetrieb bis 24.00 Uhr\n\nPreis\n45.–\n\nVorverkauf\nhttps://shop.e-guma.ch/fismo/de/events/let-s-comedy-2026-3306846\n\n\nDas Angebot im Detail: https://www.guidle.com/angebote/1242188761/lets_comedy_einsiedeln/einsiedeln\nQuelle: https://www.schwyzkultur.ch
SUMMARY:Let's Comedy Einsiedeln
PRIORITY:5
X-MICROSOFT-CDO-IMPORTANCE:1
CLASS:PUBLIC
BEGIN:VALARM
TRIGGER:-P1D
ACTION:DISPLAY
DESCRIPTION:Reminder
END:VALARM
END:VEVENT
END:VCALENDAR