BEGIN:VCALENDAR
PRODID:-//Microsoft Corporation//Outlook 11.0 MIMEDIR//EN
VERSION:2.0
METHOD:PUBLISH
BEGIN:VEVENT
DTSTART:20260424T160000
LOCATION:Spielweg, 8854 Siebnen
TRANSP:OPAQUE
SEQUENCE:0
UID:aeb968a6-4267-42a3-96aa-5549aa60993f-0
DTSTAMP:20260424T160000
DESCRIPTION:Im Jahr 2026 kehrt der Circus Medrano zurück, um sein Publikum mit einer neuen Show voller Emotionen, Magie und Tradition zu verzaubern.\n\nMit einem authentischen klassischen Zirkusprogramm für die ganze Familie präsentieren sich Akrobaten, Jongleure, Clowns und spektakuläre Darbietungen in einer eleganten und zeitlosen Atmosphäre. Eine ehrliche Show für Groß und Klein, in der die Faszination des Zirkus unter dem Zirkuszelt weiterlebt.\n\nMitwirkende: \nCircus Medrano\n\nKontakt\nTicketcorner\n0900 800 800 (CHF 1.19/min.)\n\nVerfügbarkeit / Datum, Zeit\n24.4.2026 16:00 - \n24.4.2026 19:00 - \n25.4.2026 14:30 - \n25.4.2026 19:00 - \n26.4.2026 10:30 - \n26.4.2026 14:30 - \n\nPreis\nKATEGORIE 1: 52,45 CHF\nKATEGORIE 2: 40,75 CHF\nKATEGORIE 3: 34,90 CHF\nPREMIUM: 60,65 CHF\n\nVorverkauf\nhttps://www.ticketcorner.ch/artist/circus-medrano/?affiliate=GUI&utm_source=GUI&utm_medium=dp&utm_campaign=guidle\n\n\nDas Angebot im Detail: https://www.guidle.com/angebote/1244851578/circus_medrano_2026/siebnen\nQuelle: https://www.schwyzkultur.ch
SUMMARY:Circus Medrano 2026
PRIORITY:5
X-MICROSOFT-CDO-IMPORTANCE:1
CLASS:PUBLIC
BEGIN:VALARM
TRIGGER:-P1D
ACTION:DISPLAY
DESCRIPTION:Reminder
END:VALARM
END:VEVENT
END:VCALENDAR