BEGIN:VCALENDAR
PRODID:-//Microsoft Corporation//Outlook 11.0 MIMEDIR//EN
VERSION:2.0
METHOD:PUBLISH
BEGIN:VEVENT
DTSTART:20260516T160000
DTEND:20260516T213000
LOCATION:Eventzelt Rigi Staffel, 6410 Rigi Staffel
TRANSP:OPAQUE
SEQUENCE:0
UID:002b4102-0594-4a6a-90e2-6c792e8c511e-0
DTSTAMP:20260516T160000
DESCRIPTION:Am Samstag, 16. Mai 2026, feiert die Rigi Stubete ihre Premiere auf dem Musikberg Rigi. Inspiriert von den legendären Stubeten im «Bärghuis» auf Rigi Kaltbad wird diese schöne Tradition neu belebt: Renommierte Volksmusikformationen treffen auf junge Nachwuchstalente aus verschiedenen Regionen der Schweiz.\n\nBeim Ländler-Gipfeltreffen im Eventzelt (ab 16.00 Uhr) begegnen die Nachwuchsformationen drei etablierten Volksmusikformationen aus der Innerschweiz, dem Bernbiet und dem Appenzellerland.\n\nMit dem Kombiticket (Spezialtageskarte inklusive Eintritt) erleben Sie hoch über dem Vierwaldstättersee auf dem Musikberg Rigi einen abwechslungsreichen Tag voller Volksmusik in einzigartiger Atmosphäre.\n\nZusätzlich treten die Nachwuchsformationen von 11.00 bis 15.30 Uhr in verschiedenen Gastronomiebetrieben auf. Der Eintritt zu diesen Auftritten ist frei (Hutkollekte).\n\nhttps://www.rigi.ch/stubete\n\nKontakt\nRigi Bahnen AG\nBahnhofstrasse 7\n6354 Vitznau\n+41413998787\n\nVerfügbarkeit / Datum, Zeit\n16.5.2026 16:00 - 21:30\n\nPreis\nab CHF 39.00\n\nVorverkauf\nhttps://www.rigi.ch/stubete\n\n\nDas Angebot im Detail: https://www.guidle.com/angebote/1250228634/rigi_stubete_-_landler_gipfeltreffen/rigi_staffel\nQuelle: https://www.schwyzkultur.ch
SUMMARY:Rigi Stubete - Ländler Gipfeltreffen
PRIORITY:5
X-MICROSOFT-CDO-IMPORTANCE:1
CLASS:PUBLIC
BEGIN:VALARM
TRIGGER:-P1D
ACTION:DISPLAY
DESCRIPTION:Reminder
END:VALARM
END:VEVENT
END:VCALENDAR