BEGIN:VCALENDAR
PRODID:-//Microsoft Corporation//Outlook 11.0 MIMEDIR//EN
VERSION:2.0
METHOD:PUBLISH
BEGIN:VEVENT
DTSTART:20260619T193000
DTEND:20260619T211500
LOCATION:Die Libelle Schlagstrasse 76, 6430 Schwyz
TRANSP:OPAQUE
SEQUENCE:0
UID:10219f27-4d29-4603-9b20-3753c60bf762-0
DTSTAMP:20260619T193000
DESCRIPTION:Ecstatic dance & soundbath\n\nWas dich erwartet:\n\n\n:: Opening circle\n\n:: Tanz & Bewegung\n\n:: Klangbad\n\n:: Closing circle\n\n:: Chai und vegane Snacks\n\n\nWir starten gemeinsam im Kreis. Nach einer kurzen Anleitung gehen wir in den freien Tanz über. Bettina's got the best sound for you, promised! Du kannst dich frei bewegen, schütteln, stretchen, tanzen, so wie du es gerade fühlst. \nWas ist überhaupt Ecstatic dance? Für Ecstatic dance brauchen wir nur deinen Körper, eine Tanzfläche und den passenden Sound. Wir brauchen keinen Alkohol oder Drogen um in einen natürlichen Rausch zu kommen. Es braucht keine Vorgaben und Choreografie, nach der du dich bewegen musst. Folge deiner Intuition und schau was passiert. Es geht darum, sich selbst innerhalb einer Gemeinschaft zu spüren. Die Aufmerksamkeit ist auf den eigenen Körper gerichtet. \n\nNach der Tanzsession entspannst du ganz gemütlich zu sphärischen Klängen beim Klangbad.\nEin Abend um so richtig loszulassen und anzukommen bei dir. Für Alle Menschen offen. Ich biete einen sicheren und geführten Abend, so dass du dich ganz frei fühlen kannst. \n\nCome, dance and let your light sparkle! Glückshormone garantiert!\n\n\nEnergieausgleich ab Fr. 40.-\n\nhttps://www.serenity-yoga.ch\n\nKontakt\nBettina Zumstein\n\nVerfügbarkeit / Datum, Zeit\n19.6.2026 19:30 - 21:15\n\nPreis\nfr.40.- 50.- (Selbsteinschätzung) wenn die Kosten für dich ein Problem sind, melde dich gerne bei mir.\n\n\nDas Angebot im Detail: https://www.guidle.com/angebote/1250612818/ecstatic_dancesoundbath/schwyz\nQuelle: https://www.schwyzkultur.ch
SUMMARY:Ecstatic dance&soundbath
PRIORITY:5
X-MICROSOFT-CDO-IMPORTANCE:1
CLASS:PUBLIC
BEGIN:VALARM
TRIGGER:-P1D
ACTION:DISPLAY
DESCRIPTION:Reminder
END:VALARM
END:VEVENT
END:VCALENDAR