BEGIN:VCALENDAR
PRODID:-//Microsoft Corporation//Outlook 11.0 MIMEDIR//EN
VERSION:2.0
METHOD:PUBLISH
BEGIN:VEVENT
DTSTART:20260509T140000
DTEND:20260510T000000
LOCATION:Strandbad Hopfräben Gersauerstrasse 83, 6440 Brunnen
TRANSP:OPAQUE
SEQUENCE:0
UID:c750dcab-6369-44dc-b14e-6cc6124753ee-0
DTSTAMP:20260509T140000
DESCRIPTION:Wir freuen uns Sie ab dem 09.05.26 wieder im Strandbad Hopfräben in Brunnen begrüssen zu dürfen. Sie sind herzlich eingeladen mit uns die Eröffnung zu feiern! ab 14.00 am Samstag 09.05. öffnen wir unsere Tore!\nDie beiden Livebands Chap und Swissjoy aus der Region sorgen für Unterhaltung. Weiter gibt es Sommervibes mit DJ Dylla und eine Tanzshow von Diversity Fam! \nDer Eintritt ist für Jung und Alt kostenlos! \nAb Sonntag 10.05.26 ist das Strandbad wieder täglich ab 09.00 Uhr geöffnet (bei trockener Witterung).\nLasst uns zusammen den Sommer einläuten!  \n\nhttps://www.takeover-brunnen.ch/strandbad-hopfräben\n\nKontakt\nTAKEOVER Food & Events\nStrandbad Hopfräben\nGersauerstrasse 83\n6440 Brunnen\n+41 78 315 70 71\n\nVerfügbarkeit / Datum, Zeit\n9.5.2026 14:00 - 24:00\n\nPreis\nKostenloser Eintritt\n\n\nDas Angebot im Detail: https://www.guidle.com/angebote/1252677777/eroffnungsfest_strandbad_hopfraben/brunnen\nQuelle: https://www.schwyzkultur.ch
SUMMARY:Eröffnungsfest Strandbad Hopfräben
PRIORITY:5
X-MICROSOFT-CDO-IMPORTANCE:1
CLASS:PUBLIC
BEGIN:VALARM
TRIGGER:-P1D
ACTION:DISPLAY
DESCRIPTION:Reminder
END:VALARM
END:VEVENT
END:VCALENDAR