BEGIN:VCALENDAR
PRODID:-//Microsoft Corporation//Outlook 11.0 MIMEDIR//EN
VERSION:2.0
METHOD:PUBLISH
BEGIN:VEVENT
DTSTART:20260506T190000
LOCATION:Gemeindeverwaltung Rothenthurm Schulstrasse 4, 6418 Rothenthurm
TRANSP:OPAQUE
SEQUENCE:0
UID:c29e8e74-7691-439e-8cfb-df7921b17476-0
DTSTAMP:20260506T190000
DESCRIPTION:Der Kulturverein Rothenthurm organisiert auch dieses Jahr eine Dorfführung mit dem Dorf-Historiker Albert Marty-Gisler. Von der «Ochsenbrugg» gehen wir zur Oberdorfstrasse, der ersten Wegverbindung bis ins 17.Jahrhundert vom Zürichsee zum Gotthard. Dann über die Obere Rüti, vorbei beim einstigen Sagenweiher zur ehemaligen Sägerei. Der Abschluss machen wir beim geschichtsträchtigen Gasthaus «Zum Ochsen». Die Führung endet nach gut einer Stunde im «Rothenthurmer-Stübli». Auf dem historischen Spaziergang erfahren Sie vieles von Anno dazumal über das alte Rothenthurm, Land und Leute. Der Kulturverein Rothenthurm freut sich auf viele Interessierte Teilnehmer.\n\nKontakt\nKulturverein Rothenthurm\nMarkus Schuler\nHöhenweg 14\n6418 Rothenthurm\n+41 79 828 45 38\n\nVerfügbarkeit / Datum, Zeit\n6.5.2026 19:00 - \n\nDer Rundgang startet um 19.00 Uhr\n\n\nDas Angebot im Detail: https://www.guidle.com/angebote/1252690276/historische_dorffuhrung_in_rothenthurm_teil_2/rothenthurm\nQuelle: https://www.schwyzkultur.ch
SUMMARY:Historische Dorfführung in Rothenthurm, Teil 2
PRIORITY:5
X-MICROSOFT-CDO-IMPORTANCE:1
CLASS:PUBLIC
BEGIN:VALARM
TRIGGER:-P1D
ACTION:DISPLAY
DESCRIPTION:Reminder
END:VALARM
END:VEVENT
END:VCALENDAR