BEGIN:VCALENDAR
PRODID:-//Microsoft Corporation//Outlook 11.0 MIMEDIR//EN
VERSION:2.0
METHOD:PUBLISH
BEGIN:VEVENT
DTSTART:20260702T190000
LOCATION:Verrückt Bistro-Bar Gotthardstrasse 5, 6353 Weggis
TRANSP:OPAQUE
SEQUENCE:0
UID:3aa8534d-f12b-4d15-92ac-6e27a3dc3404-0
DTSTAMP:20260702T190000
DESCRIPTION:Geniessen Sie eine einzigartige Mischung aus verschiedenen Stilen und Klängen, die Ihre private oder öffentliche Veranstaltung unvergesslich machen.\n\nhttps://verrueckt-weggis.ch/\n\nVerfügbarkeit / Datum, Zeit\n2.7.2026 19:00 - \n\n\nDas Angebot im Detail: https://www.guidle.com/angebote/1253075109/wa-ta_touille_konzert_mit_raclettebegleitung/weggis\nQuelle: https://www.schwyzkultur.ch
SUMMARY:Wa-Ta Touille Konzert mit Raclettebegleitung
PRIORITY:5
X-MICROSOFT-CDO-IMPORTANCE:1
CLASS:PUBLIC
BEGIN:VALARM
TRIGGER:-P1D
ACTION:DISPLAY
DESCRIPTION:Reminder
END:VALARM
END:VEVENT
END:VCALENDAR