BEGIN:VCALENDAR
PRODID:-//Microsoft Corporation//Outlook 11.0 MIMEDIR//EN
VERSION:2.0
METHOD:PUBLISH
BEGIN:VEVENT
DTSTART:20270114T190000
LOCATION:Hotel Restaurant PUR Hurden Hurdnerstrasse 137, 8640 Hurden
TRANSP:OPAQUE
SEQUENCE:0
UID:288e54c8-17f5-46fe-b322-557cedc13d5b-0
DTSTAMP:20270114T190000
DESCRIPTION:Das Kriminaldinner ‘Und raus bist du‘ – das ist ein köstliches Gänge-Menü in stilvollem Ambiente umrahmt von einem spannenden Kriminalfall, das im  PUR Hurden in Hurden stattfinden wird.\n\nSie befinden sich im Ballsaal des exquisiten Wellnesshotels „Pachisi“. Das Galaessen steht bereit und aus der Küche duftet es bereits köstlich. Nach dem anstrengenden Yoga-Nachmittag haben Sie sich ihr Dinner wirklich verdient! Oder haben Sie sich lieber beim Bogenschießen oder in der Wassergymnastik ausgetobt? In welcher Gruppe Sie auch waren - nun treffen Sie sich gemeinsam zum Festschmaus und der exklusiven Vorstellung des neuen Brettspiels „Und raus bist Du“ - die Spieleautorin persönlich wird anwesend sein! Sehr zum Leidwesen der Yoga-Ikone Eva Endlich, die ihre Gäste lieber zeitig ins Bett geschickt hätte. Schließlich steht morgen „Yoga bei Sonnenaufgang“ auf dem Programm. Doch was als witziger Spieleabend angekündigt wurde, wird bitterer Ernst: Eine Leiche hängt tot über dem Gartenzaun - mit einem Pfeil in der Brust. Ein Wettstreit der konkurrierenden Sportgruppen? Oder eine perfide Version des „Spiel des Lebens“? Würfeln Sie mit! Es geht um nichts weniger als um die Wahrheit und die Notwendigkeit, den oder die Täter(in) ausfindig zu machen!\n\nDas Gänge-Menü wird serviert vom Gastroteam des  PUR Hurden, das Kitzel für Nerven und Gaumen garantieren wird. Einlass ist um 18:30 Uhr – 19:00 Uhr beginnt die Veranstaltung.\n\nKontakt\nengesser marketing GmbH\nJosef-Beyerle-Straße 28\n\nVerfügbarkeit / Datum, Zeit\n14.1.2027 19:00 - \n\nEinlass: 18:30 Uhr / Gänge Menü und Theaterstück sind im Preis inbegriffen / Tisch- und Sitzplätze werden vor Ort zugewiesen\n\nPreis\n149.90€\nSchwerbehinderte Personen und deren Begleitpersonen zahlen jeweils den Normalpreis.\n\nVorverkauf\nhttps://guidle.reservix.de/p/reservix/event/2555341\n\n\nDas Angebot im Detail: https://www.guidle.com/angebote/1253534810/das_kriminal_dinner_-_krimidinner_mit_kitzel_fur_nerven_und_gaumen/hurden\nQuelle: https://www.schwyzkultur.ch
SUMMARY:Das Kriminal Dinner - Krimidinner mit Kitzel für Nerven und Gaumen
PRIORITY:5
X-MICROSOFT-CDO-IMPORTANCE:1
CLASS:PUBLIC
BEGIN:VALARM
TRIGGER:-P1D
ACTION:DISPLAY
DESCRIPTION:Reminder
END:VALARM
END:VEVENT
END:VCALENDAR