BEGIN:VCALENDAR
PRODID:-//Microsoft Corporation//Outlook 11.0 MIMEDIR//EN
VERSION:2.0
METHOD:PUBLISH
BEGIN:VEVENT
DTSTART:20260613T200000
LOCATION:Gasthaus Balmberg Ringstrasse 33, 6433 Stoos SZ
TRANSP:OPAQUE
SEQUENCE:0
UID:7a63d8a9-04b0-4a6d-b5ad-f23ce08ce0ed-0
DTSTAMP:20260613T200000
DESCRIPTION:Ein besonderes Wochenende steht bevor – mit Musik, guter Stimmung und gelebter Tradition rund um das Stoos-Schwinget.\n\nSamstag, 13. Juni ab 20 Uhr\nMusikalische Unterhaltung bei der Stubätä mit LQ Adlergruess und Feierstimmung an der Schwingfestparty in der Mosi-Bar.\n\nSonntag, 14. Juni ab 15 Uhr\nFeierlicher Ausklang mit der Stooskranz-Party – wir stossen gemeinsam auf ein gelungenes Schwingfest an.\n\nHerzlich willkommen – wir freuen uns auf Euren Besuch.\n\nhttps://www.balmberg-stoos.ch\n\nKontakt\nRestaurant Balmberg \nRingstrasse 33\n6433 Stoos\n041 811 42 41\n\nVerfügbarkeit / Datum, Zeit\n13.6.2026 20:00 - \n14.6.2026 15:00 - \n\n\nDas Angebot im Detail: https://www.guidle.com/angebote/1254715947/stoos-schwinget_2026__mosi-bar/stoos_sz\nQuelle: https://www.schwyzkultur.ch
SUMMARY:STOOS-SCHWINGET 2026 @ MOSI-BAR
PRIORITY:5
X-MICROSOFT-CDO-IMPORTANCE:1
CLASS:PUBLIC
BEGIN:VALARM
TRIGGER:-P1D
ACTION:DISPLAY
DESCRIPTION:Reminder
END:VALARM
END:VEVENT
END:VCALENDAR