BEGIN:VCALENDAR
PRODID:-//Microsoft Corporation//Outlook 11.0 MIMEDIR//EN
VERSION:2.0
METHOD:PUBLISH
BEGIN:VEVENT
DTSTART:20261127T110000
DTEND:20270106T170000
LOCATION:DIORAMA Bethlehem Einsiedeln Benzigerstrasse 23, 8840 Einsiedeln
TRANSP:OPAQUE
RRULE:FREQ=WEEKLY;INTERVAL=1;UNTIL=20270106T170000;WKST=MO;BYDAY=MO,TU,WE,TH,FR,SA,SU
UID:67ec95cb-2b83-4ed4-b6ba-9254527529f1-0
DTSTAMP:20261127T110000
DESCRIPTION:Die Krippe im DIORAMA zeigt die Weihnachtsgeschichte.\nMultimedia, Touchscreens und Interaktivität gibt es hier nicht. Sie tauchen ein in eine Welt vor 2000 Jahren. Die Szenerie zeigt 450 Figuren auf 80 Quadratmetern Fläche und vor 30 Metern gemaltem Hintergrund. Die Kombination von plastischer Darstellung und gemaltem Hintergrund erzeugt eine Illusion von Weite. Die Darstellung versetzt Sie mitten ins alte Judäa; in die naturgetreue Nachbildung der Gegend von Bethlehem.\n\nIm Krippenensemble und vor allem im Gefolge der Drei Könige zeigt sich die ganze Opulenz des Orients: „Im Wind rauschende Seidenfahnen, ein Prunkschirm, ein Elefant mit einem Thronsitz und Frauen unter einem Sonnenzelt auf einem Dromedar“.\n\nIm gleichen Haus wird die Mineralien-Sammlung von Dr. Adelrich Eberle aus Einsiedeln gezeigt: 1‘200 prächtige Exponate aus aller Welt. Eine Besonderheit bildet das Fluoreszenzkabinett: Im ultra­violetten Licht offenbaren einige Mineralien, die im Tageslicht eher unscheinbar daherkommen, eine fantastische, ungeahnte Farbenpracht.\n\nAuf Anfrage sind wir jederzeit für Gruppen, Schulen und individuelle Führungen geöffnet. \n\nhttps://www.diorama.ch\n\nKontakt\nDIORAMA Bethlehem Einsiedeln\nBenzigerstrasse 23\n8840 Einsiedeln\n055 412 26 17\n\nVerfügbarkeit / Datum, Zeit\n27.11.2026 - 6.1.2027 11:00 - 17:00\n\nGruppen und Führungen sowie Besuche während des Jahres sind auf Voranmeldung möglich.\n\nPreis\ns. Website\n\n\nDas Angebot im Detail: https://www.guidle.com/angebote/44659091/diorama_bethlehem_stiftung/einsiedeln\nQuelle: https://www.schwyzkultur.ch
SUMMARY:Diorama Bethlehem Stiftung
PRIORITY:5
X-MICROSOFT-CDO-IMPORTANCE:1
CLASS:PUBLIC
BEGIN:VALARM
TRIGGER:-P1D
ACTION:DISPLAY
DESCRIPTION:Reminder
END:VALARM
END:VEVENT
END:VCALENDAR