BEGIN:VCALENDAR
PRODID:-//Microsoft Corporation//Outlook 11.0 MIMEDIR//EN
VERSION:2.0
METHOD:PUBLISH
BEGIN:VEVENT
DTSTART:20260501T130000
DTEND:20261031T170000
LOCATION:Ital Reding-Haus Rickenbachstrasse 24, 6430 Schwyz
TRANSP:OPAQUE
RRULE:FREQ=WEEKLY;INTERVAL=1;UNTIL=20261031T170000;WKST=MO;BYDAY=TU,WE,TH,FR,SA,SU
UID:5fad4100-47c4-4a81-9f16-c9ea62f5da5a-0
DTSTAMP:20260501T130000
DESCRIPTION:Die Ital Reding-Hofstatt gehört zu den wertvollsten Baugruppen des Landes Schwyz. Innerhalb der Einfassungsmauer liegen das Herrenhaus, das Haus Bethlehem und das Ökonomiegebäude (heute Kantonsbibliothek). Das Herrenhaus wurde ab 1609 durch Ital Reding erbaut. Dem Gebäude vorgelagert ist ein Barockgarten, flankiert wird es von zwei Schattenhäuschen. Die Prachtentfaltung des Herrenhauses kommt im Innern vollständig zur Geltung. Im Erdgeschoss befindet sich der grosse Gartensaal, darunter der Gewölbekeller. Die eigentlichen Prunkzimmer mit reichen Täfern und Decken in Holz befinden sich nach traditioneller Art im ersten Obergeschoss. Das 1287 erbaute Haus Bethlehem ist ein einmaliger Zeuge aus der Entstehungszeit der Eidgenossenschaft. Im gemauerten Sockel befindet sich ein im 16. Jahrhundert eingerichteter Saal mit Wandmalereien.\n\nhttp://www.irh.ch\n\nKontakt\nItal Reding-Hofstatt\n6431 Schwyz\n041 811 45 05 (Museum)\n\nVerfügbarkeit / Datum, Zeit\n1.5.2026 - 31.10.2026 13:00 - 17:00 Di, Mi, Do, Fr, Sa, So\n\nVom 1. November 2025 bis 30. April 2026 bleibt das ITAL REDING-HAUS mit Haus Bethlehem für Einzelbesucher geschlossen.\n\n\nPreis\nErwachsene: Fr. 10.00\nStudenten, Lehrlinge (mit Ausweis): Fr. 5.00\nKinder und Jugendliche (bis 16. Alterjahr): Eintritt frei\nGruppen ohne Führung (mind. 15 Personen), pro Person: Fr. 5.00\nSchulklassen ohne Führung (inkl. Begleitperson)\nwährend der Museums-Öffnungszeiten: Eintritt frei\nStiftungsmitglieder (inkl. Familienmitglieder): Eintritt frei\n\n\nDas Angebot im Detail: https://www.guidle.com/angebote/44659511/ital_reding-hofstatt/schwyz\nQuelle: https://www.schwyzkultur.ch
SUMMARY:Ital Reding-Hofstatt
PRIORITY:5
X-MICROSOFT-CDO-IMPORTANCE:1
CLASS:PUBLIC
BEGIN:VALARM
TRIGGER:-P1D
ACTION:DISPLAY
DESCRIPTION:Reminder
END:VALARM
END:VEVENT
END:VCALENDAR